BEGIN:VCALENDAR
METHOD:PUBLISH
VERSION:2.0
PRODID:-//Thirsty Thursday at Dunwoody Tavern//Calendar//EN

BEGIN:VEVENT
SUMMARY:Dunwoody | Thirsty Thursday at Dunwoody Tavern
DESCRIPTION:Excited to head back to the Dunwoody Tavern for our upcoming February\, Thirsty Thursday! It feels like a return to our roots. Indulge in the delicious meatloaf! It’s going to be a fantastic evening! Address 5488 Chamblee Dunwoody Rd\, Dunwoody\, GA 30338
X-ALT-DESC:<p>Excited to head back to the Dunwoody Tavern for our upcoming February, Thirsty Thursday! It feels like a return to our roots. Indulge in the delicious meatloaf! It’s going to be a fantastic evening!</p><p><dt> <br class="Apple-interchange-newline">Address </dt><dd class="wZ4JdaHxSAhGy1HoNVja cPy9QU4brI7VQXFNPEvF">5488 Chamblee Dunwoody Rd, Dunwoody, GA 30338</dd></p>
UID:Event9204
DTSTART:20260219T223000Z
DTEND:20260220T020000Z
DTSTAMP:20251209T070648Z
LAST-MODIFIED:20260212T203959Z
END:VEVENT

END:VCALENDAR