BEGIN:VCALENDAR
METHOD:PUBLISH
VERSION:2.0
PRODID:-//International Potluck Social//Calendar//EN

BEGIN:VEVENT
SUMMARY:North Cobb County | International Potluck Social
DESCRIPTION:North Cobb Rotary District 6900Location: Legacy Park Clubhouse\, 4201 Legacy Park Cir\, Kennesaw\, GA 30144Time: 5:30pm - 7:30pm ESTDate: 02/19/2026 (Thu.)SUG: https://www.signupgenius.com/go/10C0F4BA4A72DA7FEC61-61470619-rotaryPlease sign up as soon as possible so everyone will have a good idea on how much to bring.Beer and wine will be provided.Come hungry\, come curious\, and come ready for a great night of fellowship and fun!This will help everyone learn a little more about each other while enjoying great food and conversation.Your nameThe name of the dishYour home country or hometownPlease bring a small card to place next to your dish that includes:Important:Everyone is invited to bring a dish that represents your home country or your hometown—family favorites\, cultural classics\, or local specialties are all welcome.Join us for a fun-filled evening as we travel the world through food!2/19/26 Rotary February Social – International Potluck Night!Bring your best dishes. Beer and wine provided. 
X-ALT-DESC:<p>North Cobb Rotary District 6900</p><p>Location: Legacy Park Clubhouse, 4201 Legacy Park Cir, Kennesaw, GA 30144</p><p>Time: 5:30pm - 7:30pm EST</p><p>Date: 02/19/2026 (Thu.)</p><p>SUG:&nbsp;<a href="https://www.signupgenius.com/go/10C0F4BA4A72DA7FEC61-61470619-rotary" target="_blank">https://www.signupgenius.com/go/10C0F4BA4A72DA7FEC61-61470619-rotary</a></p><p>Please sign up as soon as possible so everyone will have a good idea on how much to bring.</p><p>Beer and wine will be provided.</p><p>Come hungry, come curious, and come ready for a great night of fellowship and fun!</p><p><br></p><p>This will help everyone learn a little more about each other while enjoying great food and conversation.</p><p>Your name</p><p>The name of the dish</p><p>Your home country or hometown</p><p>Please bring a small card to place next to your dish that includes:</p><p><br></p><p>Important:</p><p>Everyone is invited to bring a dish that represents your home country or your hometown—family favorites, cultural classics, or local specialties are all welcome.</p><p>Join us for a fun-filled evening as we travel the world through food!</p><p>2/19/26 Rotary February Social – International Potluck Night!</p><p>Bring your best dishes. Beer and wine provided.&nbsp;</p>
UID:Event9219
DTSTART:20260219T223000Z
DTEND:20260220T003000Z
DTSTAMP:20260106T004337Z
LAST-MODIFIED:20260219T235010Z
END:VEVENT

END:VCALENDAR