BEGIN:VCALENDAR
METHOD:PUBLISH
VERSION:2.0
PRODID:-//Wheeler Basketball - Rotary Show of Support//Calendar//EN

BEGIN:VEVENT
SUMMARY:East Cobb | Wheeler Basketball - Rotary Show of Support
DESCRIPTION:
X-ALT-DESC:
UID:Event9232
DTSTART:20260204T230000Z
DTEND:20260204T230000Z
DTSTAMP:20260107T182034Z
LAST-MODIFIED:20260107T182034Z
END:VEVENT

END:VCALENDAR