BEGIN:VCALENDAR
METHOD:PUBLISH
VERSION:2.0
PRODID:-//Acworth PD Supplies Drop//Calendar//EN

BEGIN:VEVENT
SUMMARY:North Cobb County | Acworth PD Supplies Drop
DESCRIPTION:Member Kimberly Haase delivers supplies for Acworth PD.
X-ALT-DESC:<p>Member Kimberly Haase delivers supplies for Acworth PD.</p>
UID:Event9353
DTSTART:20260213T170000Z
DTEND:20260213T173000Z
DTSTAMP:20260314T234214Z
LAST-MODIFIED:20260314T234214Z
END:VEVENT

END:VCALENDAR